BEGIN:VCALENDAR
VERSION:2.0
PRODID:-//Graduate Student Association - ECPv6.15.20//NONSGML v1.0//EN
CALSCALE:GREGORIAN
METHOD:PUBLISH
X-WR-CALNAME:Graduate Student Association
X-ORIGINAL-URL:https://gsa.ua.edu
X-WR-CALDESC:Events for Graduate Student Association
REFRESH-INTERVAL;VALUE=DURATION:PT1H
X-Robots-Tag:noindex
X-PUBLISHED-TTL:PT1H
BEGIN:VTIMEZONE
TZID:America/Chicago
BEGIN:DAYLIGHT
TZOFFSETFROM:-0600
TZOFFSETTO:-0500
TZNAME:CDT
DTSTART:20240310T080000
END:DAYLIGHT
BEGIN:STANDARD
TZOFFSETFROM:-0500
TZOFFSETTO:-0600
TZNAME:CST
DTSTART:20241103T070000
END:STANDARD
BEGIN:DAYLIGHT
TZOFFSETFROM:-0600
TZOFFSETTO:-0500
TZNAME:CDT
DTSTART:20250309T080000
END:DAYLIGHT
BEGIN:STANDARD
TZOFFSETFROM:-0500
TZOFFSETTO:-0600
TZNAME:CST
DTSTART:20251102T070000
END:STANDARD
BEGIN:DAYLIGHT
TZOFFSETFROM:-0600
TZOFFSETTO:-0500
TZNAME:CDT
DTSTART:20260308T080000
END:DAYLIGHT
BEGIN:STANDARD
TZOFFSETFROM:-0500
TZOFFSETTO:-0600
TZNAME:CST
DTSTART:20261101T070000
END:STANDARD
END:VTIMEZONE
BEGIN:VEVENT
DTSTART;TZID=America/Chicago:20251127T180000
DTEND;TZID=America/Chicago:20251127T180000
DTSTAMP:20260421T114116
CREATED:20251121T211515Z
LAST-MODIFIED:20251121T213442Z
UID:3283-1764266400-1764266400@gsa.ua.edu
SUMMARY:Friendsgiving Potluck
DESCRIPTION:It’s Friendsgiving time! \nJoin us at Druid City Brewing Company (700 14th Street) on Nov. 27 at 6 PM for a Friendsgiving Potluck. \nWe’ll have free food\, while drinks will be available for purchase at the venue. \nBring a dish. Bring a friend. And let’s share the love together! \n \nRSVP NOW
URL:https://gsa.ua.edu/eventcal/friendsgiving-potluck/
LOCATION:Druid City Brewing Company\, 700 14th St\, Tuscaloosa\, AL\, 35401\, United States
CATEGORIES:Socials
ORGANIZER;CN="Graduate Student Association":MAILTO:gsa@ua.edu
END:VEVENT
END:VCALENDAR